BEGIN:VCALENDAR
VERSION:2.0
PRODID:icalendar-ruby
CALSCALE:GREGORIAN
METHOD:PUBLISH
BEGIN:VEVENT
DTSTAMP:20260420T034852Z
UID:27-395229@alliancechurch.com
DTSTART:20261101T150000Z
DTEND:20261101T160000Z
CLASS:PUBLIC
CREATED:20260419T224034
DESCRIPTION:We welcome you to worship with us Sunday mornings at 10 am
LAST-MODIFIED:20260419T224034
LOCATION:
SUMMARY:Sunday Worship Service
URL;VALUE=URI:https://alliancechurch.com/events/sunday-worship-service/2026
 -11-01
END:VEVENT
END:VCALENDAR
