BEGIN:VCALENDAR
VERSION:2.0
PRODID:icalendar-ruby
CALSCALE:GREGORIAN
METHOD:PUBLISH
BEGIN:VEVENT
DTSTAMP:20260420T001636Z
UID:27-394965@alliancechurch.com
DTSTART:20261018T140000Z
DTEND:20261018T150000Z
CLASS:PUBLIC
CREATED:20260419T190126
DESCRIPTION:We welcome you to worship with us Sunday mornings at 10 am
LAST-MODIFIED:20260419T190126
LOCATION:
SUMMARY:Sunday Worship Service
URL;VALUE=URI:https://alliancechurch.com/events/sunday-worship-service/2026
 -10-18
END:VEVENT
END:VCALENDAR
