BEGIN:VCALENDAR
VERSION:2.0
PRODID:icalendar-ruby
CALSCALE:GREGORIAN
METHOD:PUBLISH
BEGIN:VEVENT
DTSTAMP:20260419T204709Z
UID:27-394701@alliancechurch.com
DTSTART:20261004T140000Z
DTEND:20261004T150000Z
CLASS:PUBLIC
CREATED:20260419T151833
DESCRIPTION:We welcome you to worship with us Sunday mornings at 10 am
LAST-MODIFIED:20260419T151833
LOCATION:
SUMMARY:Sunday Worship Service
URL;VALUE=URI:https://alliancechurch.com/events/sunday-worship-service/2026
 -10-04
END:VEVENT
END:VCALENDAR
