BEGIN:VCALENDAR
VERSION:2.0
PRODID:icalendar-ruby
CALSCALE:GREGORIAN
METHOD:PUBLISH
BEGIN:VEVENT
DTSTAMP:20260419T191111Z
UID:27-394438@alliancechurch.com
DTSTART:20260927T140000Z
DTEND:20260927T150000Z
CLASS:PUBLIC
CREATED:20260419T113613
DESCRIPTION:We welcome you to worship with us Sunday mornings at 10 am
LAST-MODIFIED:20260419T113613
LOCATION:
SUMMARY:Sunday Worship Service
URL;VALUE=URI:https://alliancechurch.com/events/sunday-worship-service/2026
 -09-27
END:VEVENT
END:VCALENDAR
