BEGIN:VCALENDAR
VERSION:2.0
PRODID:icalendar-ruby
CALSCALE:GREGORIAN
METHOD:PUBLISH
BEGIN:VEVENT
DTSTAMP:20260419T155807Z
UID:27-394436@alliancechurch.com
DTSTART:20260913T140000Z
DTEND:20260913T150000Z
CLASS:PUBLIC
CREATED:20260419T113613
DESCRIPTION:We welcome you to worship with us Sunday mornings at 10 am
LAST-MODIFIED:20260419T113613
LOCATION:
SUMMARY:Sunday Worship Service
URL;VALUE=URI:https://alliancechurch.com/events/sunday-worship-service/2026
 -09-13
END:VEVENT
END:VCALENDAR
