BEGIN:VCALENDAR
VERSION:2.0
PRODID:icalendar-ruby
CALSCALE:GREGORIAN
METHOD:PUBLISH
BEGIN:VEVENT
DTSTAMP:20260419T195945Z
UID:10-394588@alliancechurch.com
DTSTART:20261012T230000Z
DTEND:20261013T000000Z
CLASS:PUBLIC
CREATED:20260419T151833
DESCRIPTION:Come Join us on Mondays at 7 pm for an hour of prayer in Room 3
 \nAll men are welcome\nNot including Holidays
LAST-MODIFIED:20260419T151833
LOCATION:Room 3
SUMMARY:Men's Prayer Group - No Holidays
URL;VALUE=URI:https://alliancechurch.com/events/mens-prayer-group-no-holida
 ys/2026-10-12
ATTACH;FILENAME=jack-sharp-ShCVvQbQBDk-unsplash-%281%29.jpg;FMTTYPE=image/j
 peg:https://dq5pwpg1q8ru0.cloudfront.net/2023/11/08/13/03/43/554948d1-b27a
 -4d51-8599-bd5a0208dd6f/jack-sharp-ShCVvQbQBDk-unsplash-%25281%2529.jpg
END:VEVENT
END:VCALENDAR
